BEGIN:VCALENDAR
VERSION:2.0
PRODID:spatie/icalendar-generator
DESCRIPTION:Events from Genesis Masonic Lodge #88
X-WR-CALDESC:Events from Genesis Masonic Lodge #88
REFRESH-INTERVAL;VALUE=DURATION:PT1440M
X-PUBLISHED-TTL:PT1440M
BEGIN:VTIMEZONE
TZID:America/New_York
BEGIN:STANDARD
DTSTART:20251102T020000Z
TZOFFSETFROM:-0400
TZOFFSETTO:-0500
END:STANDARD
BEGIN:DAYLIGHT
DTSTART:20260308T020000Z
TZOFFSETFROM:-0500
TZOFFSETTO:-0400
END:DAYLIGHT
BEGIN:STANDARD
DTSTART:20261101T020000Z
TZOFFSETFROM:-0400
TZOFFSETTO:-0500
END:STANDARD
END:VTIMEZONE
BEGIN:VTIMEZONE
TZID:UTC
BEGIN:STANDARD
DTSTART:20250727T143803Z
TZOFFSETFROM:+0000
TZOFFSETTO:+0000
END:STANDARD
END:VTIMEZONE
BEGIN:VEVENT
UID:140-51
DTSTAMP:20260423T143803Z
SUMMARY:Regular Meeting
LOCATION:Genesis Masonic Lodge  Pompton Lakes\, NJ 15 Hamburg Turnpike\,  P
 ompton Lakes NJ
ORGANIZER;CN=genesismasoniclodge.org:MAILTO:marco@marcosoftware.com
DTSTART;TZID=America/New_York:20260526T190000
DTEND;TZID=America/New_York:20260526T210000
X-ALT-DESC;FMTTYPE=TEXT/HTML:Mountain View Chapter 205 Order of the Eastern
  Star\, New Jersey
CATEGORIES:Order of The Eastern Star
URL;VALUE=URI:https://genesismasoniclodge.org/mc-events/regular-meeting-3/
METHOD:PUBLISH
END:VEVENT
END:VCALENDAR